BEGIN:VCALENDAR
VERSION:2.0
PRODID:-//ExhibitionMatches.com//NONSGML v1.0//EN
BEGIN:VEVENT
UID=545D77C8-F08B-45F3-1756814FFC973F7F
DTSTAMP=20260423T133831Z
DTSTART;VALUE=DATE:20260530
DTEND;VALUE=DATE:20260531
SUMMARY:William Brice Memorial - GIRLS EVENT
LOCATION:Osbourn High School, 1977 Eagle Way, Manassas, VA, 20110
DESCRIPTION:View full event details: https://wrestlingtournaments.org/view.cfm?ID=107030

URL;VALUE=URI:https://wrestlingtournaments.org/view.cfm?ID=107030
END:VEVENT
END:VCALENDAR