BEGIN:VCALENDAR
VERSION:2.0
PRODID:-//ExhibitionMatches.com//NONSGML v1.0//EN
BEGIN:VEVENT
UID=54A26D8B-0FE2-5266-9D5D5F832189C93E
DTSTAMP=20260423T134603Z
DTSTART;VALUE=DATE:20260718
DTEND;VALUE=DATE:20260719
SUMMARY:2026 Liberty Open Wrestling Tournament
LOCATION:1971 University Boulevard, Lynchburg, VA, 24515
DESCRIPTION:View full event details: https://wrestlingtournaments.org/view.cfm?ID=107089

URL;VALUE=URI:https://wrestlingtournaments.org/view.cfm?ID=107089
END:VEVENT
END:VCALENDAR