BEGIN:VCALENDAR
VERSION:2.0
PRODID:-//ExhibitionMatches.com//NONSGML v1.0//EN
BEGIN:VEVENT
UID=54966435-C729-91DB-D7172B41F83AA779
DTSTAMP=20260423T134444Z
DTSTART;VALUE=DATE:20260502
DTEND;VALUE=DATE:20260504
SUMMARY:2026 VA USA FREESTYLE STATES
LOCATION:Heritage High School, 3101 Wards Ferry Road, Lynchburg, VA, 24502
DESCRIPTION:View full event details: https://wrestlingtournaments.org/view.cfm?ID=107160

URL;VALUE=URI:https://wrestlingtournaments.org/view.cfm?ID=107160
END:VEVENT
END:VCALENDAR