BEGIN:VCALENDAR
VERSION:2.0
PRODID:-//ExhibitionMatches.com//NONSGML v1.0//EN
BEGIN:VEVENT
UID=5484F11E-B77F-5AD6-4222E0A8248CAE1A
DTSTAMP=20260423T134249Z
DTSTART;VALUE=DATE:20260502
DTEND;VALUE=DATE:20260504
SUMMARY:2026 VA USA GRECO ROMAN STATES
LOCATION:Heritage High School, 3101 Wards Ferry Road, Lynchburg, VA, 24502
DESCRIPTION:View full event details: https://wrestlingtournaments.org/view.cfm?ID=107172

URL;VALUE=URI:https://wrestlingtournaments.org/view.cfm?ID=107172
END:VEVENT
END:VCALENDAR